BEGIN:VCALENDAR
VERSION:2.0
PRODID:-//eventon.com NONSGML v1.0//EN
CALSCALE:GREGORIAN
METHOD:PUBLISH
BEGIN:VEVENT
UID:69ecc5f37723e
DTSTAMP:20260425T134731Z
DTSTART:19700101
DTEND:19700102
LOCATION:Schloss Bredeneek - Orangerie Am Schloss Bredeneek 3
SUMMARY:Adventscafé 1. Advent | 02.12.2018 12 - 18 Uhr
DESCRIPTION:Advent im Schloss Bredeneek: Café\,  Adventsmarkt und Führung
 en an den Adventssonntagen Am 2.\,  9.\,  16. und 23. Dezember 2018 von 12
  bis 18 Uhr öffnet das Schlosscafé mit einem kleinen und feinen Sortimen
 t an Geschenk- und Dekoideen für Weihnachten. &nbsp;\nhttps://www.schloss-
 bredeneek.de/events/adventscafe/
URL:https://www.schloss-bredeneek.de/events/adventscafe/
END:VEVENT
END:VCALENDAR